BEGIN:VCALENDAR
VERSION:2.0
PRODID:-//Hometown Tickets//Organization Events//EN
CALSCALE:GREGORIAN
METHOD:PUBLISH
X-WR-CALNAME:McFleshman's Brewing Co. Events
X-WR-CALDESC:Upcoming events from McFleshman's Brewing Co. on Hometown Tick
 ets.
NAME:McFleshman's Brewing Co. Events
DESCRIPTION:Public event calendar for McFleshman's Brewing Co.. Buy tickets
  on Hometown Tickets.
REFRESH-INTERVAL;VALUE=DURATION:PT6H
SOURCE:https://hometowntickets.com/mcfleshmans/events.ics
X-PUBLISHED-TTL:PT6H
COLOR:#F95416
BEGIN:VEVENT
UID:69d132f6aedf2d2905b87d86-69d132f6aedf2d2905b87d88@hometowntickets.com
CREATED:20260404T154910Z
LAST-MODIFIED:20260420T221332Z
DTSTAMP:20260420T221332Z
DTSTART:20260620T190000Z
DTEND:20260620T220000Z
SUMMARY:Wisconsin West Coast IPA Invitational
DESCRIPTION:Tickets: https://hometowntickets.com/events/wisconsin-west-coas
 t-ipa-invitational\n\nMcFleshman's Brewing Company · Appleton\, WI Wiscon
 sin West Coast IPA Invitational A birthday celebration turned statewide sh
 owcase. June 20\, 2026 2:00 PM – 6:30 PM 115 S. Street\, Appleton\, WI M
 cFleshman's is turning their birthday into something bigger. What started 
 as a day to celebrate one beloved beer has grown into a full-on showcase o
 f the West Coast IPA style — and you're invited to be part of it. Taste 
 your way through a lineup of West Coast IPAs\, pale ales\, doubles\, tripl
 es\, and sessions poured by breweries from across Wisconsin. Every attende
 e votes for their favorite — the winning brewery takes home the rotating
  trophy. Every ticket includes a commemorative tasting glass. Music starts
  at 7 PM in the beer garden after the event — stick around and celebrate
  with us. General Admission $42.00 GA Ticket Entry at 3:00 PM All pours Co
 mmemorative tasting glass Attendee vote for favorite brewery VIP $54.70 VI
 P Ticket Early entry at 2:00 PM One hour early access Exclusive gift: thre
 e-can cooler fanny pack Commemorative tasting glass Attendee vote for favo
 rite brewery Participating Breweries McFleshman's Brewing Co. Badger State
  Brewing District 1 Lombardi Brewing Company Vault 202 Appleton Beer Facto
 ry Hoya Hop House Brewing Hop Yard Ale Works Lion's Tail Brewing Co. Giant
  Jones Brewing Company All sales are final. No refunds or exchanges.\n\nLo
 cal start: Sat\, Jun 20\, 2026 2:00 PM CDT
LOCATION:McFleshman's Brewing Co.\, 115 South State Street\, Appleton\, WI\
 , 54911\, US
GEO:44.2612636;-88.41412570000001
URL:https://hometowntickets.com/events/wisconsin-west-coast-ipa-invitationa
 l
CLASS:PUBLIC
TRANSP:OPAQUE
STATUS:CONFIRMED
SEQUENCE:1776723212
CATEGORIES:Festivals
CONTACT:McFleshman's Brewing Co. — https://hometowntickets.com/mcfleshman
 s
IMAGE;VALUE=URI;DISPLAY=THUMBNAIL;FMTTYPE=image/png:https://res.cloudinary.
 com/dz6szr7cp/image/upload/v1775317632/eventImage/g06jabugljolvnla8fdp.png
X-HTT-EVENT-ID:69d132f6aedf2d2905b87d86
X-HTT-ORG-SLUG:mcfleshmans
BEGIN:VALARM
ACTION:DISPLAY
TRIGGER:-P1D
DESCRIPTION:Wisconsin West Coast IPA Invitational
END:VALARM
BEGIN:VALARM
ACTION:DISPLAY
TRIGGER:-PT2H
DESCRIPTION:Wisconsin West Coast IPA Invitational
END:VALARM
END:VEVENT
END:VCALENDAR
